BEGIN:VCALENDAR
VERSION:2.0
PRODID:-//vbuov - ECPv6.15.20//NONSGML v1.0//EN
CALSCALE:GREGORIAN
METHOD:PUBLISH
X-ORIGINAL-URL:https://vbuov.ch
X-WR-CALDESC:Events for vbuov
REFRESH-INTERVAL;VALUE=DURATION:PT1H
X-Robots-Tag:noindex
X-PUBLISHED-TTL:PT1H
BEGIN:VTIMEZONE
TZID:UTC
BEGIN:STANDARD
TZOFFSETFROM:+0000
TZOFFSETTO:+0000
TZNAME:UTC
DTSTART:20240101T000000
END:STANDARD
END:VTIMEZONE
BEGIN:VEVENT
DTSTART;TZID=UTC:20251206T000000
DTEND;TZID=UTC:20251206T000000
DTSTAMP:20260423T190255
CREATED:20241229T140442Z
LAST-MODIFIED:20250206T180435Z
UID:918-1764979200-1764979200@vbuov.ch
SUMMARY:Berner Distanzmarsch
DESCRIPTION:Berner Distanzmarsch \nWer:\nOK Berner Distanzmarsch \nWo:\nIns
URL:https://vbuov.ch/event/berner-distanzmarsch/
CATEGORIES:UOV Langau
END:VEVENT
BEGIN:VEVENT
DTSTART;TZID=UTC:20251206T000000
DTEND;TZID=UTC:20251206T000000
DTSTAMP:20260423T190255
CREATED:20250202T213545Z
LAST-MODIFIED:20250206T180424Z
UID:1021-1764979200-1764979200@vbuov.ch
SUMMARY:Distanzmarsch Ins
DESCRIPTION:Distanzmarsch Ins \nLink:\nhttps://www.bernerdm.ch/
URL:https://vbuov.ch/event/distanzmarsch-ins/
CATEGORIES:UOV Langau
END:VEVENT
END:VCALENDAR