BEGIN:VCALENDAR
VERSION:2.0
PRODID:-//vbuov - ECPv6.15.20//NONSGML v1.0//EN
CALSCALE:GREGORIAN
METHOD:PUBLISH
X-WR-CALNAME:vbuov
X-ORIGINAL-URL:https://vbuov.ch
X-WR-CALDESC:Events for vbuov
REFRESH-INTERVAL;VALUE=DURATION:PT1H
X-Robots-Tag:noindex
X-PUBLISHED-TTL:PT1H
BEGIN:VTIMEZONE
TZID:UTC
BEGIN:STANDARD
TZOFFSETFROM:+0000
TZOFFSETTO:+0000
TZNAME:UTC
DTSTART:20240101T000000
END:STANDARD
END:VTIMEZONE
BEGIN:VEVENT
DTSTART;TZID=UTC:20250506T080000
DTEND;TZID=UTC:20250508T170000
DTSTAMP:20260425T224155
CREATED:20250202T203026Z
LAST-MODIFIED:20250206T180749Z
UID:954-1746518400-1746723600@vbuov.ch
SUMMARY:Bundeswehr OL Meisterschaften Münster
DESCRIPTION:Bundeswehr OL Meisterschaften\nMünster
URL:https://vbuov.ch/event/bundeswehr-ol-meisterschaften-muenster/
CATEGORIES:UOV Langau
END:VEVENT
END:VCALENDAR