BEGIN:VCALENDAR
VERSION:2.0
PRODID:-//vbuov - ECPv6.15.20//NONSGML v1.0//EN
CALSCALE:GREGORIAN
METHOD:PUBLISH
X-ORIGINAL-URL:https://vbuov.ch
X-WR-CALDESC:Events for vbuov
REFRESH-INTERVAL;VALUE=DURATION:PT1H
X-Robots-Tag:noindex
X-PUBLISHED-TTL:PT1H
BEGIN:VTIMEZONE
TZID:UTC
BEGIN:STANDARD
TZOFFSETFROM:+0000
TZOFFSETTO:+0000
TZNAME:UTC
DTSTART:20240101T000000
END:STANDARD
END:VTIMEZONE
BEGIN:VEVENT
DTSTART;TZID=UTC:20250606T000000
DTEND;TZID=UTC:20250608T000000
DTSTAMP:20260425T215220
CREATED:20250202T204214Z
LAST-MODIFIED:20250206T181155Z
UID:966-1749168000-1749340800@vbuov.ch
SUMMARY:Militärpatrullie
DESCRIPTION:Militärpatrullie\n100 Km Biel \nLink:\nhttps://100km.ch/militarkategorien/
URL:https://vbuov.ch/event/militaerpatrullie/
CATEGORIES:UOV Langau
END:VEVENT
END:VCALENDAR