BEGIN:VCALENDAR
VERSION:2.0
PRODID:-//vbuov - ECPv6.15.20//NONSGML v1.0//EN
CALSCALE:GREGORIAN
METHOD:PUBLISH
X-ORIGINAL-URL:https://vbuov.ch
X-WR-CALDESC:Events for vbuov
REFRESH-INTERVAL;VALUE=DURATION:PT1H
X-Robots-Tag:noindex
X-PUBLISHED-TTL:PT1H
BEGIN:VTIMEZONE
TZID:UTC
BEGIN:STANDARD
TZOFFSETFROM:+0000
TZOFFSETTO:+0000
TZNAME:UTC
DTSTART:20240101T000000
END:STANDARD
END:VTIMEZONE
BEGIN:VEVENT
DTSTART;TZID=UTC:20250901T080000
DTEND;TZID=UTC:20250930T170000
DTSTAMP:20260425T140002
CREATED:20241229T135927Z
LAST-MODIFIED:20250206T180603Z
UID:910-1756713600-1759251600@vbuov.ch
SUMMARY:Berner Dreikampf / Schweiz Veteranenwettkampf\, Datum: noch offen
DESCRIPTION:Berner Dreikampf/Schweiz Veteranenwettkampf \nWer:\nVS VBUOV\nWir suchen einen Organisator \nWo:\nnoch offen
URL:https://vbuov.ch/event/berner-dreikampf-schweiz-veteranenwettkampf-datum-noch-offen/
CATEGORIES:UOV Langau
END:VEVENT
END:VCALENDAR