BEGIN:VCALENDAR
VERSION:2.0
PRODID:-//vbuov - ECPv6.15.20//NONSGML v1.0//EN
CALSCALE:GREGORIAN
METHOD:PUBLISH
X-WR-CALNAME:vbuov
X-ORIGINAL-URL:https://vbuov.ch
X-WR-CALDESC:Events for vbuov
REFRESH-INTERVAL;VALUE=DURATION:PT1H
X-Robots-Tag:noindex
X-PUBLISHED-TTL:PT1H
BEGIN:VTIMEZONE
TZID:UTC
BEGIN:STANDARD
TZOFFSETFROM:+0000
TZOFFSETTO:+0000
TZNAME:UTC
DTSTART:20240101T000000
END:STANDARD
END:VTIMEZONE
BEGIN:VEVENT
DTSTART;TZID=UTC:20250505T080000
DTEND;TZID=UTC:20250505T170000
DTSTAMP:20260425T005339
CREATED:20250202T202919Z
LAST-MODIFIED:20250206T181302Z
UID:952-1746432000-1746464400@vbuov.ch
SUMMARY:Rückschub CISOR
DESCRIPTION:Rückschub CISOR\nMaterialrückfuhr nach Thun (Helfer)
URL:https://vbuov.ch/event/rueckschub-cisor/
CATEGORIES:UOV Langau
END:VEVENT
BEGIN:VEVENT
DTSTART;TZID=UTC:20250504T100000
DTEND;TZID=UTC:20250504T170000
DTSTAMP:20260425T005339
CREATED:20250202T202416Z
LAST-MODIFIED:20250206T180809Z
UID:950-1746352800-1746378000@vbuov.ch
SUMMARY:Domleschger Waffenlauf
DESCRIPTION:Domleschger Waffenlauf 14 Km \n\n\n\nURSCHWEIZERISCH \nDer Waffenlauf ist eine urschweizerische und traditionsverbundene Sportart. Seit 2007 ist auch der Domleschger-Lauf Teil dieser Tradition und der Waffenlauf-Schweizer-Meisterschaft.  \n\n\n\nhttps://www.domleschger-lauf.org/
URL:https://vbuov.ch/event/domleschger-waffenlauf/
CATEGORIES:UOV Langau
END:VEVENT
BEGIN:VEVENT
DTSTART;TZID=UTC:20250504T000000
DTEND;TZID=UTC:20250504T000000
DTSTAMP:20260425T005339
CREATED:20250202T202102Z
LAST-MODIFIED:20250206T180849Z
UID:948-1746316800-1746316800@vbuov.ch
SUMMARY:Emmenthaler Ol
DESCRIPTION:Emmenthaler Ol\nLangnau
URL:https://vbuov.ch/event/emmenthaler-ol/
CATEGORIES:UOV Langau
END:VEVENT
BEGIN:VEVENT
DTSTART;TZID=UTC:20250503T000000
DTEND;TZID=UTC:20250503T000000
DTSTAMP:20260425T005339
CREATED:20250206T181044Z
LAST-MODIFIED:20250206T181044Z
UID:946-1746230400-1746230400@vbuov.ch
SUMMARY:HV Syndikom
DESCRIPTION:Helfer an HV Syndikom Lützelflüh
URL:https://vbuov.ch/event/hv-syndikom/
CATEGORIES:UOV Langau
END:VEVENT
BEGIN:VEVENT
DTSTART;TZID=UTC:20250503T000000
DTEND;TZID=UTC:20250503T000000
DTSTAMP:20260425T005339
CREATED:20250202T195102Z
LAST-MODIFIED:20250206T180755Z
UID:944-1746230400-1746230400@vbuov.ch
SUMMARY:CISOR Auscheidung
DESCRIPTION:CISOR Auscheidung\nSt Maurice
URL:https://vbuov.ch/event/cisor-auscheidung/
CATEGORIES:UOV Langau
END:VEVENT
BEGIN:VEVENT
DTSTART;TZID=UTC:20250502T000000
DTEND;TZID=UTC:20250502T000000
DTSTAMP:20260425T005339
CREATED:20250202T195002Z
LAST-MODIFIED:20250206T180855Z
UID:942-1746144000-1746144000@vbuov.ch
SUMMARY:Fassen CISOR
DESCRIPTION:Fassen CISOR\nThun (Helfer)
URL:https://vbuov.ch/event/fassen-cisor/
CATEGORIES:UOV Langau
END:VEVENT
BEGIN:VEVENT
DTSTART;TZID=UTC:20250426T000000
DTEND;TZID=UTC:20250426T000000
DTSTAMP:20260425T005339
CREATED:20250202T194419Z
LAST-MODIFIED:20250206T180903Z
UID:936-1745625600-1745625600@vbuov.ch
SUMMARY:Feldpostwettkampf Leimiswil
DESCRIPTION:Feldpostwettkampf Leimiswil \nPistole / Stg-Wehr / HG
URL:https://vbuov.ch/event/feldpostwettkampf-leimiswil/
CATEGORIES:UOV Langau
END:VEVENT
BEGIN:VEVENT
DTSTART;TZID=UTC:20250426T000000
DTEND;TZID=UTC:20250426T000000
DTSTAMP:20260425T005339
CREATED:20250202T194111Z
LAST-MODIFIED:20250206T181323Z
UID:934-1745625600-1745625600@vbuov.ch
SUMMARY:Militär Autoprüfung  921
DESCRIPTION:Militär Autoprüfung 921 in Thun \n(Anmeldung für UOV’ler die Wettkämpfe organisiren)
URL:https://vbuov.ch/event/militaer-autopruefung-921/
CATEGORIES:UOV Langau
END:VEVENT
BEGIN:VEVENT
DTSTART;TZID=UTC:20250426T000000
DTEND;TZID=UTC:20250426T000000
DTSTAMP:20260425T005339
CREATED:20241229T133925Z
LAST-MODIFIED:20250206T181342Z
UID:897-1745625600-1745625600@vbuov.ch
SUMMARY:Schweiz. Feldpost Tagung mit Wettkampf (mit Gäste Kat.)
DESCRIPTION:Schweiz. Feldpost Tagung mit Wettkampf (mit Gäste Kat.) \nWer:\nSchweiz. Feldpost-Verband \nWo:\nLeimiswil / Gemeinde Madiswil
URL:https://vbuov.ch/event/schweiz-feldpost-tagung-mit-wettkampf-mit-gaeste-kat/
CATEGORIES:UOV Langau
END:VEVENT
BEGIN:VEVENT
DTSTART;VALUE=DATE:20250426
DTEND;VALUE=DATE:20250427
DTSTAMP:20260425T005339
CREATED:20250202T194532Z
LAST-MODIFIED:20250206T181312Z
UID:938-1745625600-1745711999@vbuov.ch
SUMMARY:MUTZ  Zugerseemarsch
DESCRIPTION:MUTZ Zugerseemarsch \n17 oder 41 Km
URL:https://vbuov.ch/event/mutz-zugerseemarsch/
CATEGORIES:UOV Langau
END:VEVENT
BEGIN:VEVENT
DTSTART;TZID=UTC:20250413T000000
DTEND;TZID=UTC:20250413T000000
DTSTAMP:20260425T005339
CREATED:20250202T193910Z
LAST-MODIFIED:20250206T181349Z
UID:932-1744502400-1744502400@vbuov.ch
SUMMARY:Wiedlisbacher Waffenlauf
DESCRIPTION:Wiedlisbacher Waffenlauf 14Km \nhttps://www.waffenlauf.ch/l%C3%A4ufe/wiedlisbach/
URL:https://vbuov.ch/event/wiedlisbacher-waffenlauf/
CATEGORIES:UOV Langau
END:VEVENT
BEGIN:VEVENT
DTSTART;TZID=UTC:20250307T183000
DTEND;TZID=UTC:20250309T150000
DTSTAMP:20260425T005339
CREATED:20241229T132338Z
LAST-MODIFIED:20250206T180655Z
UID:889-1741372200-1741532400@vbuov.ch
SUMMARY:60. Schweiz Winter Gebirgs Skilauf
DESCRIPTION:60. Schweiz Winter Gebirgs Skilauf \nWer:\nOK/UOV Obersimmental \nWo:\nLenk iS \nLink:\nhttps://www.wintergebirgsskilauf.ch/
URL:https://vbuov.ch/event/60-schweiz-winter-gebirgs-skilauf/
CATEGORIES:UOV Langau
END:VEVENT
BEGIN:VEVENT
DTSTART;TZID=UTC:20250306T000000
DTEND;TZID=UTC:20250306T000000
DTSTAMP:20260425T005339
CREATED:20250202T193442Z
LAST-MODIFIED:20250206T181405Z
UID:930-1741219200-1741219200@vbuov.ch
SUMMARY:Langethaler OI
DESCRIPTION:Langethaler OI
URL:https://vbuov.ch/event/langethaler-oi/
CATEGORIES:UOV Langau
END:VEVENT
BEGIN:VEVENT
DTSTART;TZID=UTC:20250221T194500
DTEND;TZID=UTC:20250221T224500
DTSTAMP:20260425T005339
CREATED:20250202T192602Z
LAST-MODIFIED:20250206T181413Z
UID:925-1740167100-1740177900@vbuov.ch
SUMMARY:HV UOV Langnau Rest Bädli Langnau
DESCRIPTION:HV UOV Langnau Rest Bädli Langnau 19:45 Uhr
URL:https://vbuov.ch/event/hv-uov-langnau-rest-baedli-langnau/
CATEGORIES:UOV Langau
END:VEVENT
END:VCALENDAR